Workbook
Name _: DATE(YEAR(Loan_Start),MONTH(Loan_Start)+Payment_Number,DAY(Loan_Start))
Name _: DATE(YEAR('STANDARD_RFO UNITS'!Loan_Start),MONTH('STANDARD_RFO UNITS'!Loan_Start)+Payment_Number,DAY('STANDARD_RFO UNITS'!Loan_Start))
Name _: DATE(YEAR(Loan_Start),MONTH(Loan_Start)+Payment_Number,DAY(Loan_Start))
Name Ancheta: #N/A
Name Beg_Bal: 'Amort Computation'!$C$25:$C$384
Name Beg_Bal: #REF!
Name Beg_Bal: #REF!
Name Calaca: #N/A
Name Data: 'Amort Computation'!$A$25:$I$384
Name DocTemplates: OFFSET(#REF!,,,COUNTA(#REF!),1)
Name DocTemplates: OFFSET(#REF!,,,COUNTA(#REF!),1)
Name DocTemplates: OFFSET(#REF!,,,COUNTA(#REF!),1)
Name DocTemplates: OFFSET(#REF!,,,COUNTA(#REF!),1)
Name DocTemplates: OFFSET(#REF!,,,COUNTA(#REF!),1)
Name DocTemplates: OFFSET(#REF!,,,COUNTA(#REF!),1)
Name DocTemplates: OFFSET(#REF!,,,COUNTA(#REF!),1)
Name End_Bal: 'Amort Computation'!$I$25:$I$384
Name End_Bal: #REF!
Name End_Bal: #REF!
Name Extra_Pay: 'Amort Computation'!$E$25:$E$384
Name Extra_Pay: #REF!
Name Extra_Pay: #REF!
Name Full_Print: '[1]Amort Computation'!$A$1:$I$384
Name Full_Print: 'Amort Computation'!$A$1:$I$384
Name Header_Row: ROW('Amort Computation'!$24:$24)
Name Header_Row: ROW(#REF!)
Name Header_Row: ROW(#REF!)
Name Int: 'Amort Computation'!$H$25:$H$384
Name Int: #REF!
Name Int: #REF!
Name Interest_Rate: 'Amort Computation'!$D$15
Name Interest_Rate: #REF!
Name Interest_Rate: #REF!
Name Last_Row: IF('Amort Computation'!Values_Entered,'Amort Computation'!Header_Row+'Amort Computation'!Number_of_Payments,'Amort Computation'!Header_Row)
Name Last_Row: IF(RECOVERIES!Values_Entered,Header_Row+RECOVERIES!Number_of_Payments,Header_Row)
Name Last_Row: IF('STANDARD_RFO UNITS'!Values_Entered,'STANDARD_RFO UNITS'!Header_Row+'STANDARD_RFO UNITS'!Number_of_Payments,'STANDARD_RFO UNITS'!Header_Row)
Name Last_Row: IF(Values_Entered,Header_Row+Number_of_Payments,Header_Row)
Name Loan_Amount: 'Amort Computation'!$D$14
Name Loan_Amount: #REF!
Name Loan_Amount: #REF!
Name Loan_Start: 'Amort Computation'!$D$18
Name Loan_Start: #REF!
Name Loan_Start: #REF!
Name Loan_Years: 'Amort Computation'!$D$16
Name Loan_Years: #REF!
Name Loan_Years: #REF!
Name Num_Pmt_Per_Year: 'Amort Computation'!$D$17
Name Num_Pmt_Per_Year: #REF!
Name Num_Pmt_Per_Year: #REF!
Name Number_of_Payments: MATCH(0.01,'Amort Computation'!End_Bal,-1)+1
Name Number_of_Payments: MATCH(0.01,End_Bal,-1)+1
Name Number_of_Payments: MATCH(0.01,'STANDARD_RFO UNITS'!End_Bal,-1)+1
Name Number_of_Payments: MATCH(0.01,End_Bal,-1)+1
Name Pay_Date: 'Amort Computation'!$B$25:$B$384
Name Pay_Num: 'Amort Computation'!$A$25:$A$384
Name Pay_Num: #REF!
Name Pay_Num: #REF!
Name Payment_Date: #N/A
Name Payment_Date: #N/A
Name Payment_Date: DATE(YEAR('Amort Computation'!Loan_Start),MONTH('Amort Computation'!Loan_Start)+Payment_Number,DAY('Amort Computation'!Loan_Start))

Sheet Construction Sched 2023
A1: OLD
O7: *Internal applied to Equity term plus 2 months buffer
B12: Aug. 2023
B13: Current term | C13: New Term
A14: B1 | B14: 27 | C14: 30
A15: B2 | B15: 32 | C15: 35
A16: B3 | B16: 37 | C16: 40
A18: NEW | B18: as of Sept. 28,2023
C38: NEW
C39: B1 | D39: 45748
C40: B2 | D40: 45931
C41: B3 | D41: 46174

Sheet Amort Computation
H2: ANNEX "A"
A4: ILOILO SOUTHPRIME DEVELOPERS INC. | G4: Date and Time Printed: | I4: =NOW() -> 45902.531
A7: Buyer's Name:
A8: Project Name: | C8: EMERALD ESTATES
A9: Unit No.: | C9: BLOCK LOT | G9: Financing:
B13: Payment Schedule | F13: Outstanding Balance Summary
C14: Loan Amount | D14: 2614278.6 | G14: Scheduled Payment | H14: =IF(Values_Entered,-PMT(Interest_Rate/Num_Pmt_Per_Year,Loan_Years*Num_Pmt_Per_Year,Loan_Amount),"") -> 32413.313
C15: Annual Interest Rate | D15: 0.085 | G15: Scheduled Number of Payments
C16: Loan Period in Years | D16: 10 | G16: Actual Number of Payments | H16: =IF(Values_Entered,Number_of_Payments,"") -> 120
C17: Number of Payments Per Year | D17: 12 | G17: Total Early Payments | H17: 0
C18: Start Date of Loan | D18: 45005 | G18: Total Interest | H18: =IF(Values_Entered,SUMIF(Beg_Bal,">0",Int),"") -> 1269925.7 | M18: PROJECTION
C19: Optional Extra Payments | M19: LINK GOING TO LD OR INHS MASTERLIST
L21: MONTH | M21: =INDEX($B$25:$B$135,COLUMN(A1),1) -> 45005 | N21: =INDEX($B$25:$B$135,COLUMN(B1),1) -> 45036 | O21: =INDEX($B$25:$B$135,COLUMN(C1),1) -> 45066 | P21: =INDEX($B$25:$B$135,COLUMN(D1),1) -> 45097 | Q21: =INDEX($B$25:$B$135,COLUMN(E1),1) -> 45127 | R21: =INDEX($B$25:$B$135,COLUMN(F1),1) -> 45158 | S21: =INDEX($B$25:$B$135,COLUMN(G1),1) -> 45189 | T21: =INDEX($B$25:$B$135,COLUMN(H1),1) -> 45219 | ... BT21: =INDEX($B$25:$B$135,COLUMN(BH1),1) -> 46803 | BW21: amount | BX21: prin cipal | BY21: interest | BZ21: balance
A23: PmtNo. | B23: Payment Date | C23: Beginning Balance | D23: Scheduled Payment | E23: Extra Payment | F23: Total Payment | G23: Principal | H23: Interest | I23: Ending Balance | J23: Paid/Credited | L23: TRANCHES | M23: 1 | N23: =M23+1 -> 2 | O23: =N23+1 -> 3 | P23: =O23+1 -> 4 | Q23: =P23+1 -> 5 | R23: =Q23+1 -> 6 | S23: =R23+1 -> 7 | T23: =S23+1 -> 8 | U23: =T23+1 -> 9 | ... BT23: =BS23+1 -> 60 | BZ23: =Loan_Amount -> 2614278.6 | CA23: =PMT(16%/12,60,BZ23) -> -63574.176
A25: =IF(Values_Entered,1,"") -> 1 | B25: =Loan_Start -> 45005 | C25: =IF(Values_Entered,Loan_Amount,"") -> 2614278.6 | D25: =IF(Pay_Num<>"",Scheduled_Monthly_Payment,"") -> 32413.313 | F25: =IF(AND(Pay_Num<>"",Sched_Pay+Extra_Pay<Beg_Bal),Sched_Pay+Extra_Pay,IF(Pay_Num<>"",Beg_Bal,"")) -> 32413.313 | G25: =IF(Pay_Num<>"",Total_Pay-Int,"") -> 13895.507 | H25: =IF(Pay_Num<>"",Beg_Bal*(Interest_Rate/Num_Pmt_Per_Year),"") -> 18517.807 | I25: =IF(AND(Pay_Num<>"",Sched_Pay+Extra_Pay<Beg_Bal),Beg_Bal-Princ,IF(Pay_Num<>"",0,"")) -> 2600383.1 | J25: ='[3]B11-L8'!J32 -> PAID | L25: =G23 -> Principal | M25: =INDEX($G$25:$H$288,COLUMN(A1),1) -> 13895.507 | N25: =INDEX($G$25:$H$288,COLUMN(B1),1) -> 13993.933 | O25: =INDEX($G$25:$H$288,COLUMN(C1),1) -> 14093.057 | P25: =INDEX($G$25:$H$288,COLUMN(D1),1) -> 14192.883 | Q25: =INDEX($G$25:$H$288,COLUMN(E1),1) -> 14293.415 | R25: =INDEX($G$25:$H$288,COLUMN(F1),1) -> 14394.66 | S25: =INDEX($G$25:$H$288,COLUMN(G1),1) -> 14496.623 | T25: =INDEX($G$25:$H$288,COLUMN(H1),1) -> 14599.307 | ... BT25: =INDEX($G$25:$H$288,COLUMN(BH1),1) -> 21073.346 | BW25: 34058 | BX25: =BW25-BY25 -> -799.04785 | BY25: =BZ23*16%/12 -> 34857.048 | BZ25: =BZ23-BX25 -> 2615077.6
A26: =IF(Values_Entered,A25+1,"") -> 2 | B26: =Loan_Start+31 -> 45036 | C26: =IF(Pay_Num<>"",I25,"") -> 2600383.1 | D26: =IF(Pay_Num<>"",Scheduled_Monthly_Payment,"") -> 32413.313 | F26: =IF(AND(Pay_Num<>"",Sched_Pay+Extra_Pay<Beg_Bal),Sched_Pay+Extra_Pay,IF(Pay_Num<>"",Beg_Bal,"")) -> 32413.313 | G26: =IF(Pay_Num<>"",Total_Pay-Int,"") -> 13993.933 | H26: =IF(Pay_Num<>"",Beg_Bal*Interest_Rate/Num_Pmt_Per_Year,"") -> 18419.38 | I26: =IF(AND(Pay_Num<>"",Sched_Pay+Extra_Pay<Beg_Bal),Beg_Bal-Princ,IF(Pay_Num<>"",0,"")) -> 2586389.1 | J26: ='[3]B11-L8'!J33 -> PAID | L26: =H23 -> Interest | M26: =INDEX($H$25:$H$164,COLUMN(A2),1) -> 18517.807 | N26: =INDEX($H$25:$H$164,COLUMN(B2),1) -> 18419.38 | O26: =INDEX($H$25:$H$164,COLUMN(C2),1) -> 18320.256 | P26: =INDEX($H$25:$H$164,COLUMN(D2),1) -> 18220.431 | Q26: =INDEX($H$25:$H$164,COLUMN(E2),1) -> 18119.898 | R26: =INDEX($H$25:$H$164,COLUMN(F2),1) -> 18018.653 | S26: =INDEX($H$25:$H$164,COLUMN(G2),1) -> 17916.691 | T26: =INDEX($H$25:$H$164,COLUMN(H2),1) -> 17814.006 | ... BT26: =INDEX($H$25:$H$164,COLUMN(BH2),1) -> 11339.967 | BW26: 34058 | BX26: =BW26-BY26 -> -809.70183 | BY26: =BZ25*16%/12 -> 34867.702 | BZ26: =BZ25-BX26 -> 2615887.3
A27: =IF(Values_Entered,A26+1,"") -> 3 | B27: =B26+30 -> 45066 | C27: =IF(Pay_Num<>"",I26,"") -> 2586389.1 | D27: =IF(Pay_Num<>"",Scheduled_Monthly_Payment,"") -> 32413.313 | F27: =IF(AND(Pay_Num<>"",Sched_Pay+Extra_Pay<Beg_Bal),Sched_Pay+Extra_Pay,IF(Pay_Num<>"",Beg_Bal,"")) -> 32413.313 | G27: =IF(Pay_Num<>"",Total_Pay-Int,"") -> 14093.057 | H27: =IF(Pay_Num<>"",Beg_Bal*Interest_Rate/Num_Pmt_Per_Year,"") -> 18320.256 | I27: =IF(AND(Pay_Num<>"",Sched_Pay+Extra_Pay<Beg_Bal),Beg_Bal-Princ,IF(Pay_Num<>"",0,"")) -> 2572296.1 | J27: ='[3]B11-L8'!J34 -> PAID | L27: TOTAL | M27: =SUM(M25:M26) -> 32413.313 | N27: =SUM(N25:N26) -> 32413.313 | O27: =SUM(O25:O26) -> 32413.313 | P27: =SUM(P25:P26) -> 32413.313 | Q27: =SUM(Q25:Q26) -> 32413.313 | R27: =SUM(R25:R26) -> 32413.313 | S27: =SUM(S25:S26) -> 32413.313 | T27: =SUM(T25:T26) -> 32413.313 | ... BT27: =SUM(BT25:BT26) -> 32413.313 | BW27: 34058 | BX27: =BW27-BY27 -> -820.49785 | BY27: =BZ26*16%/12 -> 34878.498 | BZ27: =BZ26-BX27 -> 2616707.8
A28: =IF(Values_Entered,A27+1,"") -> 4 | B28: =B27+31 -> 45097 | C28: =IF(Pay_Num<>"",I27,"") -> 2572296.1 | D28: =IF(Pay_Num<>"",Scheduled_Monthly_Payment,"") -> 32413.313 | F28: =IF(AND(Pay_Num<>"",Sched_Pay+Extra_Pay<Beg_Bal),Sched_Pay+Extra_Pay,IF(Pay_Num<>"",Beg_Bal,"")) -> 32413.313 | G28: =IF(Pay_Num<>"",Total_Pay-Int,"") -> 14192.883 | H28: =IF(Pay_Num<>"",Beg_Bal*Interest_Rate/Num_Pmt_Per_Year,"") -> 18220.431 | I28: =IF(AND(Pay_Num<>"",Sched_Pay+Extra_Pay<Beg_Bal),Beg_Bal-Princ,IF(Pay_Num<>"",0,"")) -> 2558103.2 | J28: ='[3]B11-L8'!J35 -> PAID | M28: =J25 -> PAID | N28: =K25 -> 0 | BW28: 34058 | BX28: =BW28-BY28 -> -831.43782 | BY28: =BZ27*16%/12 -> 34889.438 | BZ28: =BZ27-BX28 -> 2617539.3
A29: =IF(Values_Entered,A28+1,"") -> 5 | B29: =B28+30 -> 45127 | C29: =IF(Pay_Num<>"",I28,"") -> 2558103.2 | D29: =IF(Pay_Num<>"",Scheduled_Monthly_Payment,"") -> 32413.313 | F29: =IF(AND(Pay_Num<>"",Sched_Pay+Extra_Pay<Beg_Bal),Sched_Pay+Extra_Pay,IF(Pay_Num<>"",Beg_Bal,"")) -> 32413.313 | G29: =IF(Pay_Num<>"",Total_Pay-Int,"") -> 14293.415 | H29: =IF(Pay_Num<>"",Beg_Bal*Interest_Rate/Num_Pmt_Per_Year,"") -> 18119.898 | I29: =IF(AND(Pay_Num<>"",Sched_Pay+Extra_Pay<Beg_Bal),Beg_Bal-Princ,IF(Pay_Num<>"",0,"")) -> 2543809.8 | J29: ='[3]B11-L8'!J36 -> PAID | BW29: 34058 | BX29: =BW29-BY29 -> -842.52366 | BY29: =BZ28*16%/12 -> 34900.524 | BZ29: =BZ28-BX29 -> 2618381.8
A30: =IF(Values_Entered,A29+1,"") -> 6 | B30: =B29+31 -> 45158 | C30: =IF(Pay_Num<>"",I29,"") -> 2543809.8 | D30: =IF(Pay_Num<>"",Scheduled_Monthly_Payment,"") -> 32413.313 | F30: =IF(AND(Pay_Num<>"",Sched_Pay+Extra_Pay<Beg_Bal),Sched_Pay+Extra_Pay,IF(Pay_Num<>"",Beg_Bal,"")) -> 32413.313 | G30: =IF(Pay_Num<>"",Total_Pay-Int,"") -> 14394.66 | H30: =IF(Pay_Num<>"",Beg_Bal*Interest_Rate/Num_Pmt_Per_Year,"") -> 18018.653 | I30: =IF(AND(Pay_Num<>"",Sched_Pay+Extra_Pay<Beg_Bal),Beg_Bal-Princ,IF(Pay_Num<>"",0,"")) -> 2529415.1 | J30: ='[3]B11-L8'!J37 -> PAID | BW30: 34058 | BX30: =BW30-BY30 -> -853.75731 | BY30: =BZ29*16%/12 -> 34911.757 | BZ30: =BZ29-BX30 -> 2619235.6
A31: =IF(Values_Entered,A30+1,"") -> 7 | B31: =B30+31 -> 45189 | C31: =IF(Pay_Num<>"",I30,"") -> 2529415.1 | D31: =IF(Pay_Num<>"",Scheduled_Monthly_Payment,"") -> 32413.313 | F31: =IF(AND(Pay_Num<>"",Sched_Pay+Extra_Pay<Beg_Bal),Sched_Pay+Extra_Pay,IF(Pay_Num<>"",Beg_Bal,"")) -> 32413.313 | G31: =IF(Pay_Num<>"",Total_Pay-Int,"") -> 14496.623 | H31: =IF(Pay_Num<>"",Beg_Bal*Interest_Rate/Num_Pmt_Per_Year,"") -> 17916.691 | I31: =IF(AND(Pay_Num<>"",Sched_Pay+Extra_Pay<Beg_Bal),Beg_Bal-Princ,IF(Pay_Num<>"",0,"")) -> 2514918.5 | J31: ='[3]B11-L8'!J38 -> PAID | BW31: 34058 | BX31: =BW31-BY31 -> -865.14074 | BY31: =BZ30*16%/12 -> 34923.141 | BZ31: =BZ30-BX31 -> 2620100.7 | CJ31: Total Interest for 6 months
A32: =IF(Values_Entered,A31+1,"") -> 8 | B32: =B31+30 -> 45219 | C32: =IF(Pay_Num<>"",I31,"") -> 2514918.5 | D32: =IF(Pay_Num<>"",Scheduled_Monthly_Payment,"") -> 32413.313 | F32: =IF(AND(Pay_Num<>"",Sched_Pay+Extra_Pay<Beg_Bal),Sched_Pay+Extra_Pay,IF(Pay_Num<>"",Beg_Bal,"")) -> 32413.313 | G32: =IF(Pay_Num<>"",Total_Pay-Int,"") -> 14599.307 | H32: =IF(Pay_Num<>"",Beg_Bal*Interest_Rate/Num_Pmt_Per_Year,"") -> 17814.006 | I32: =IF(AND(Pay_Num<>"",Sched_Pay+Extra_Pay<Beg_Bal),Beg_Bal-Princ,IF(Pay_Num<>"",0,"")) -> 2500319.2 | J32: ='[3]B11-L8'!J39 -> PAID | BW32: 34058 | BX32: =BW32-BY32 -> -876.67595 | BY32: =BZ31*16%/12 -> 34934.676 | BZ32: =BZ31-BX32 -> 2620977.4 | CJ32: =SUM(H25:H30) -> 109616.42
A33: =IF(Values_Entered,A32+1,"") -> 9 | B33: =B32+31 -> 45250 | C33: =IF(Pay_Num<>"",I32,"") -> 2500319.2 | D33: =IF(Pay_Num<>"",Scheduled_Monthly_Payment,"") -> 32413.313 | F33: =IF(AND(Pay_Num<>"",Sched_Pay+Extra_Pay<Beg_Bal),Sched_Pay+Extra_Pay,IF(Pay_Num<>"",Beg_Bal,"")) -> 32413.313 | G33: =IF(Pay_Num<>"",Total_Pay-Int,"") -> 14702.719 | H33: =IF(Pay_Num<>"",Beg_Bal*Interest_Rate/Num_Pmt_Per_Year,"") -> 17710.594 | I33: =IF(AND(Pay_Num<>"",Sched_Pay+Extra_Pay<Beg_Bal),Beg_Bal-Princ,IF(Pay_Num<>"",0,"")) -> 2485616.5 | J33: ='[3]B11-L8'!J40 -> PAID | BW33: 34058 | BX33: =BW33-BY33 -> -888.36496 | BY33: =BZ32*16%/12 -> 34946.365 | BZ33: =BZ32-BX33 -> 2621865.7
A34: =IF(Values_Entered,A33+1,"") -> 10 | B34: =B33+30 -> 45280 | C34: =IF(Pay_Num<>"",I33,"") -> 2485616.5 | D34: =IF(Pay_Num<>"",Scheduled_Monthly_Payment,"") -> 32413.313 | F34: =IF(AND(Pay_Num<>"",Sched_Pay+Extra_Pay<Beg_Bal),Sched_Pay+Extra_Pay,IF(Pay_Num<>"",Beg_Bal,"")) -> 32413.313 | G34: =IF(Pay_Num<>"",Total_Pay-Int,"") -> 14806.863 | H34: =IF(Pay_Num<>"",Beg_Bal*Interest_Rate/Num_Pmt_Per_Year,"") -> 17606.45 | I34: =IF(AND(Pay_Num<>"",Sched_Pay+Extra_Pay<Beg_Bal),Beg_Bal-Princ,IF(Pay_Num<>"",0,"")) -> 2470809.6 | J34: ='[3]B11-L8'!J41 -> PAID | BW34: 34058 | BX34: =BW34-BY34 -> -900.20983 | BY34: =BZ33*16%/12 -> 34958.21 | BZ34: =BZ33-BX34 -> 2622765.9
A35: =IF(Values_Entered,A34+1,"") -> 11 | B35: =B34+31 -> 45311 | C35: =IF(Pay_Num<>"",I34,"") -> 2470809.6 | D35: =IF(Pay_Num<>"",Scheduled_Monthly_Payment,"") -> 32413.313 | F35: =IF(AND(Pay_Num<>"",Sched_Pay+Extra_Pay<Beg_Bal),Sched_Pay+Extra_Pay,IF(Pay_Num<>"",Beg_Bal,"")) -> 32413.313 | G35: =IF(Pay_Num<>"",Total_Pay-Int,"") -> 14911.745 | H35: =IF(Pay_Num<>"",Beg_Bal*Interest_Rate/Num_Pmt_Per_Year,"") -> 17501.568 | I35: =IF(AND(Pay_Num<>"",Sched_Pay+Extra_Pay<Beg_Bal),Beg_Bal-Princ,IF(Pay_Num<>"",0,"")) -> 2455897.9 | J35: ='[3]B11-L8'!J42 -> PAID | L35: TOTAL AMOUNT | BW35: 34058 | BX35: =BW35-BY35 -> -912.21262 | BY35: =BZ34*16%/12 -> 34970.213 | BZ35: =BZ34-BX35 -> 2623678.2
A36: =IF(Values_Entered,A35+1,"") -> 12 | B36: =B35+31 -> 45342 | C36: =IF(Pay_Num<>"",I35,"") -> 2455897.9 | D36: =IF(Pay_Num<>"",Scheduled_Monthly_Payment,"") -> 32413.313 | F36: =IF(AND(Pay_Num<>"",Sched_Pay+Extra_Pay<Beg_Bal),Sched_Pay+Extra_Pay,IF(Pay_Num<>"",Beg_Bal,"")) -> 32413.313 | G36: =IF(Pay_Num<>"",Total_Pay-Int,"") -> 15017.37 | H36: =IF(Pay_Num<>"",Beg_Bal*Interest_Rate/Num_Pmt_Per_Year,"") -> 17395.943 | I36: =IF(AND(Pay_Num<>"",Sched_Pay+Extra_Pay<Beg_Bal),Beg_Bal-Princ,IF(Pay_Num<>"",0,"")) -> 2440880.5 | J36: ='[3]B11-L8'!J43 -> PAID | L36: =SUM(F25:F84) -> 1944798.8 | BW36: 34058 | BX36: =BW36-BY36 -> -924.37546 | BY36: =BZ35*16%/12 -> 34982.375 | BZ36: =BZ35-BX36 -> 2624602.5
A37: =IF(Values_Entered,A36+1,"") -> 13 | B37: =B36+29 -> 45371 | C37: =IF(Pay_Num<>"",I36,"") -> 2440880.5 | D37: =IF(Pay_Num<>"",Scheduled_Monthly_Payment,"") -> 32413.313 | F37: =IF(AND(Pay_Num<>"",Sched_Pay+Extra_Pay<Beg_Bal),Sched_Pay+Extra_Pay,IF(Pay_Num<>"",Beg_Bal,"")) -> 32413.313 | G37: =IF(Pay_Num<>"",Total_Pay-Int,"") -> 15123.743 | H37: =IF(Pay_Num<>"",Beg_Bal*Interest_Rate/Num_Pmt_Per_Year,"") -> 17289.57 | I37: =IF(AND(Pay_Num<>"",Sched_Pay+Extra_Pay<Beg_Bal),Beg_Bal-Princ,IF(Pay_Num<>"",0,"")) -> 2425756.8 | J37: ='[3]B11-L8'!J44 -> PAID | BW37: 34058 | BX37: =BW37-BY37 -> -936.70047 | BY37: =BZ36*16%/12 -> 34994.7 | BZ37: =BZ36-BX37 -> 2625539.2
A38: =IF(Values_Entered,A37+1,"") -> 14 | B38: =B37+31 -> 45402 | C38: =IF(Pay_Num<>"",I37,"") -> 2425756.8 | D38: =IF(Pay_Num<>"",Scheduled_Monthly_Payment,"") -> 32413.313 | F38: =IF(AND(Pay_Num<>"",Sched_Pay+Extra_Pay<Beg_Bal),Sched_Pay+Extra_Pay,IF(Pay_Num<>"",Beg_Bal,"")) -> 32413.313 | G38: =IF(Pay_Num<>"",Total_Pay-Int,"") -> 15230.869 | H38: =IF(Pay_Num<>"",Beg_Bal*Interest_Rate/Num_Pmt_Per_Year,"") -> 17182.444 | I38: =IF(AND(Pay_Num<>"",Sched_Pay+Extra_Pay<Beg_Bal),Beg_Bal-Princ,IF(Pay_Num<>"",0,"")) -> 2410525.9 | J38: ='[3]B11-L8'!J45 -> PAID | BW38: 34058 | BX38: =BW38-BY38 -> -949.18981 | BY38: =BZ37*16%/12 -> 35007.19 | BZ38: =BZ37-BX38 -> 2626488.4
A39: =IF(Values_Entered,A38+1,"") -> 15 | B39: =B38+30 -> 45432 | C39: =IF(Pay_Num<>"",I38,"") -> 2410525.9 | D39: =IF(Pay_Num<>"",Scheduled_Monthly_Payment,"") -> 32413.313 | F39: =IF(AND(Pay_Num<>"",Sched_Pay+Extra_Pay<Beg_Bal),Sched_Pay+Extra_Pay,IF(Pay_Num<>"",Beg_Bal,"")) -> 32413.313 | G39: =IF(Pay_Num<>"",Total_Pay-Int,"") -> 15338.755 | H39: =IF(Pay_Num<>"",Beg_Bal*Interest_Rate/Num_Pmt_Per_Year,"") -> 17074.558 | I39: =IF(AND(Pay_Num<>"",Sched_Pay+Extra_Pay<Beg_Bal),Beg_Bal-Princ,IF(Pay_Num<>"",0,"")) -> 2395187.1 | J39: ='[3]B11-L8'!J46 -> PAID | BW39: 34058 | BX39: =BW39-BY39 -> -961.84567 | BY39: =BZ38*16%/12 -> 35019.846 | BZ39: =BZ38-BX39 -> 2627450.3
A40: =IF(Values_Entered,A39+1,"") -> 16 | B40: =B39+31 -> 45463 | C40: =IF(Pay_Num<>"",I39,"") -> 2395187.1 | D40: =IF(Pay_Num<>"",Scheduled_Monthly_Payment,"") -> 32413.313 | F40: =IF(AND(Pay_Num<>"",Sched_Pay+Extra_Pay<Beg_Bal),Sched_Pay+Extra_Pay,IF(Pay_Num<>"",Beg_Bal,"")) -> 32413.313 | G40: =IF(Pay_Num<>"",Total_Pay-Int,"") -> 15447.404 | H40: =IF(Pay_Num<>"",Beg_Bal*Interest_Rate/Num_Pmt_Per_Year,"") -> 16965.909 | I40: =IF(AND(Pay_Num<>"",Sched_Pay+Extra_Pay<Beg_Bal),Beg_Bal-Princ,IF(Pay_Num<>"",0,"")) -> 2379739.7 | J40: ='[3]B11-L8'!J47 -> PAID | BW40: 34058 | BX40: =BW40-BY40 -> -974.67028 | BY40: =BZ39*16%/12 -> 35032.67 | BZ40: =BZ39-BX40 -> 2628424.9
A41: =IF(Values_Entered,A40+1,"") -> 17 | B41: =B40+30 -> 45493 | C41: =IF(Pay_Num<>"",I40,"") -> 2379739.7 | D41: =IF(Pay_Num<>"",Scheduled_Monthly_Payment,"") -> 32413.313 | F41: =IF(AND(Pay_Num<>"",Sched_Pay+Extra_Pay<Beg_Bal),Sched_Pay+Extra_Pay,IF(Pay_Num<>"",Beg_Bal,"")) -> 32413.313 | G41: =IF(Pay_Num<>"",Total_Pay-Int,"") -> 15556.823 | H41: =IF(Pay_Num<>"",Beg_Bal*Interest_Rate/Num_Pmt_Per_Year,"") -> 16856.49 | I41: =IF(AND(Pay_Num<>"",Sched_Pay+Extra_Pay<Beg_Bal),Beg_Bal-Princ,IF(Pay_Num<>"",0,"")) -> 2364182.9 | J41: ='[3]B11-L8'!J48 -> PAID | BW41: 34058 | BX41: =BW41-BY41 -> -987.66588 | BY41: =BZ40*16%/12 -> 35045.666 | BZ41: =BZ40-BX41 -> 2629412.6
A42: =IF(Values_Entered,A41+1,"") -> 18 | B42: =B41+31 -> 45524 | C42: =IF(Pay_Num<>"",I41,"") -> 2364182.9 | D42: =IF(Pay_Num<>"",Scheduled_Monthly_Payment,"") -> 32413.313 | F42: =IF(AND(Pay_Num<>"",Sched_Pay+Extra_Pay<Beg_Bal),Sched_Pay+Extra_Pay,IF(Pay_Num<>"",Beg_Bal,"")) -> 32413.313 | G42: =IF(Pay_Num<>"",Total_Pay-Int,"") -> 15667.018 | H42: =IF(Pay_Num<>"",Beg_Bal*Interest_Rate/Num_Pmt_Per_Year,"") -> 16746.296 | I42: =IF(AND(Pay_Num<>"",Sched_Pay+Extra_Pay<Beg_Bal),Beg_Bal-Princ,IF(Pay_Num<>"",0,"")) -> 2348515.9 | J42: ='[3]B11-L8'!J49 -> PAID | BW42: 34058 | BX42: =BW42-BY42 -> -1000.8348 | BY42: =BZ41*16%/12 -> 35058.835 | BZ42: =BZ41-BX42 -> 2630413.4
A43: =IF(Values_Entered,A42+1,"") -> 19 | B43: =B42+31 -> 45555 | C43: =IF(Pay_Num<>"",I42,"") -> 2348515.9 | D43: =IF(Pay_Num<>"",Scheduled_Monthly_Payment,"") -> 32413.313 | F43: =IF(AND(Pay_Num<>"",Sched_Pay+Extra_Pay<Beg_Bal),Sched_Pay+Extra_Pay,IF(Pay_Num<>"",Beg_Bal,"")) -> 32413.313 | G43: =IF(Pay_Num<>"",Total_Pay-Int,"") -> 15777.992 | H43: =IF(Pay_Num<>"",Beg_Bal*Interest_Rate/Num_Pmt_Per_Year,"") -> 16635.321 | I43: =IF(AND(Pay_Num<>"",Sched_Pay+Extra_Pay<Beg_Bal),Beg_Bal-Princ,IF(Pay_Num<>"",0,"")) -> 2332737.9 | J43: ='[3]B11-L8'!J50 -> PAID | BW43: 34058 | BX43: =BW43-BY43 -> -1014.1792 | BY43: =BZ42*16%/12 -> 35072.179 | BZ43: =BZ42-BX43 -> 2631427.6
A44: =IF(Values_Entered,A43+1,"") -> 20 | B44: =B43+30 -> 45585 | C44: =IF(Pay_Num<>"",I43,"") -> 2332737.9 | D44: =IF(Pay_Num<>"",Scheduled_Monthly_Payment,"") -> 32413.313 | F44: =IF(AND(Pay_Num<>"",Sched_Pay+Extra_Pay<Beg_Bal),Sched_Pay+Extra_Pay,IF(Pay_Num<>"",Beg_Bal,"")) -> 32413.313 | G44: =IF(Pay_Num<>"",Total_Pay-Int,"") -> 15889.753 | H44: =IF(Pay_Num<>"",Beg_Bal*Interest_Rate/Num_Pmt_Per_Year,"") -> 16523.56 | I44: =IF(AND(Pay_Num<>"",Sched_Pay+Extra_Pay<Beg_Bal),Beg_Bal-Princ,IF(Pay_Num<>"",0,"")) -> 2316848.2 | J44: ='[3]B11-L8'!J51 -> PAID | BW44: 34058 | BX44: =BW44-BY44 -> -1027.7016 | BY44: =BZ43*16%/12 -> 35085.702 | BZ44: =BZ43-BX44 -> 2632455.3
A45: =IF(Values_Entered,A44+1,"") -> 21 | B45: =B44+31 -> 45616 | C45: =IF(Pay_Num<>"",I44,"") -> 2316848.2 | D45: =IF(Pay_Num<>"",Scheduled_Monthly_Payment,"") -> 32413.313 | F45: =IF(AND(Pay_Num<>"",Sched_Pay+Extra_Pay<Beg_Bal),Sched_Pay+Extra_Pay,IF(Pay_Num<>"",Beg_Bal,"")) -> 32413.313 | G45: =IF(Pay_Num<>"",Total_Pay-Int,"") -> 16002.305 | H45: =IF(Pay_Num<>"",Beg_Bal*Interest_Rate/Num_Pmt_Per_Year,"") -> 16411.008 | I45: =IF(AND(Pay_Num<>"",Sched_Pay+Extra_Pay<Beg_Bal),Beg_Bal-Princ,IF(Pay_Num<>"",0,"")) -> 2300845.8 | J45: ='[3]B11-L8'!J52 -> PAID | BW45: 34058 | BX45: =BW45-BY45 -> -1041.4043 | BY45: =BZ44*16%/12 -> 35099.404 | BZ45: =BZ44-BX45 -> 2633496.7
A46: =IF(Values_Entered,A45+1,"") -> 22 | B46: =B45+30 -> 45646 | C46: =IF(Pay_Num<>"",I45,"") -> 2300845.8 | D46: =IF(Pay_Num<>"",Scheduled_Monthly_Payment,"") -> 32413.313 | F46: =IF(AND(Pay_Num<>"",Sched_Pay+Extra_Pay<Beg_Bal),Sched_Pay+Extra_Pay,IF(Pay_Num<>"",Beg_Bal,"")) -> 32413.313 | G46: =IF(Pay_Num<>"",Total_Pay-Int,"") -> 16115.655 | H46: =IF(Pay_Num<>"",Beg_Bal*Interest_Rate/Num_Pmt_Per_Year,"") -> 16297.658 | I46: =IF(AND(Pay_Num<>"",Sched_Pay+Extra_Pay<Beg_Bal),Beg_Bal-Princ,IF(Pay_Num<>"",0,"")) -> 2284730.2 | J46: ='[3]B11-L8'!J53 -> PAID | BW46: 34058 | BX46: =BW46-BY46 -> -1055.2897 | BY46: =BZ45*16%/12 -> 35113.29 | BZ46: =BZ45-BX46 -> 2634552
A47: =IF(Values_Entered,A46+1,"") -> 23 | B47: =B46+31 -> 45677 | C47: =IF(Pay_Num<>"",I46,"") -> 2284730.2 | D47: =IF(Pay_Num<>"",Scheduled_Monthly_Payment,"") -> 32413.313 | F47: =IF(AND(Pay_Num<>"",Sched_Pay+Extra_Pay<Beg_Bal),Sched_Pay+Extra_Pay,IF(Pay_Num<>"",Beg_Bal,"")) -> 32413.313 | G47: =IF(Pay_Num<>"",Total_Pay-Int,"") -> 16229.808 | H47: =IF(Pay_Num<>"",Beg_Bal*Interest_Rate/Num_Pmt_Per_Year,"") -> 16183.506 | I47: =IF(AND(Pay_Num<>"",Sched_Pay+Extra_Pay<Beg_Bal),Beg_Bal-Princ,IF(Pay_Num<>"",0,"")) -> 2268500.4 | J47: ='[3]B11-L8'!J54 -> PAID | BW47: 34058 | BX47: =BW47-BY47 -> -1069.3602 | BY47: =BZ46*16%/12 -> 35127.36 | BZ47: =BZ46-BX47 -> 2635621.4
A48: =IF(Values_Entered,A47+1,"") -> 24 | B48: =B47+31 -> 45708 | C48: =IF(Pay_Num<>"",I47,"") -> 2268500.4 | D48: =IF(Pay_Num<>"",Scheduled_Monthly_Payment,"") -> 32413.313 | F48: =IF(AND(Pay_Num<>"",Sched_Pay+Extra_Pay<Beg_Bal),Sched_Pay+Extra_Pay,IF(Pay_Num<>"",Beg_Bal,"")) -> 32413.313 | G48: =IF(Pay_Num<>"",Total_Pay-Int,"") -> 16344.769 | H48: =IF(Pay_Num<>"",Beg_Bal*Interest_Rate/Num_Pmt_Per_Year,"") -> 16068.544 | I48: =IF(AND(Pay_Num<>"",Sched_Pay+Extra_Pay<Beg_Bal),Beg_Bal-Princ,IF(Pay_Num<>"",0,"")) -> 2252155.6 | J48: ='[3]B11-L8'!J55 -> PAID | BW48: 34058 | BX48: =BW48-BY48 -> -1083.6184 | BY48: =BZ47*16%/12 -> 35141.618 | BZ48: =BZ47-BX48 -> 2636705
A49: =IF(Values_Entered,A48+1,"") -> 25 | B49: =B48+28 -> 45736 | C49: =IF(Pay_Num<>"",I48,"") -> 2252155.6 | D49: =IF(Pay_Num<>"",Scheduled_Monthly_Payment,"") -> 32413.313 | F49: =IF(AND(Pay_Num<>"",Sched_Pay+Extra_Pay<Beg_Bal),Sched_Pay+Extra_Pay,IF(Pay_Num<>"",Beg_Bal,"")) -> 32413.313 | G49: =IF(Pay_Num<>"",Total_Pay-Int,"") -> 16460.544 | H49: =IF(Pay_Num<>"",Beg_Bal*Interest_Rate/Num_Pmt_Per_Year,"") -> 15952.769 | I49: =IF(AND(Pay_Num<>"",Sched_Pay+Extra_Pay<Beg_Bal),Beg_Bal-Princ,IF(Pay_Num<>"",0,"")) -> 2235695.1 | J49: ='[3]B11-L8'!J56 -> PAID | BW49: 34058 | BX49: =BW49-BY49 -> -1098.0666 | BY49: =BZ48*16%/12 -> 35156.067 | BZ49: =BZ48-BX49 -> 2637803.1
A50: =IF(Values_Entered,A49+1,"") -> 26 | B50: =B49+31 -> 45767 | C50: =IF(Pay_Num<>"",I49,"") -> 2235695.1 | D50: =IF(Pay_Num<>"",Scheduled_Monthly_Payment,"") -> 32413.313 | F50: =IF(AND(Pay_Num<>"",Sched_Pay+Extra_Pay<Beg_Bal),Sched_Pay+Extra_Pay,IF(Pay_Num<>"",Beg_Bal,"")) -> 32413.313 | G50: =IF(Pay_Num<>"",Total_Pay-Int,"") -> 16577.14 | H50: =IF(Pay_Num<>"",Beg_Bal*Interest_Rate/Num_Pmt_Per_Year,"") -> 15836.173 | I50: =IF(AND(Pay_Num<>"",Sched_Pay+Extra_Pay<Beg_Bal),Beg_Bal-Princ,IF(Pay_Num<>"",0,"")) -> 2219117.9 | J50: ='[3]B11-L8'!J57 -> PAID | BW50: 34058 | BX50: =BW50-BY50 -> -1112.7075 | BY50: =BZ49*16%/12 -> 35170.707 | BZ50: =BZ49-BX50 -> 2638915.8
...

Sheet Sheet2
B5: RS DATE | C5: 45047
B6: 1 | C6: 45078
B7: 2 | C7: 45108
B8: 3 | C8: 45139
B9: 4 | C9: 45170
B10: 5 | C10: 45200
B11: 6 | C11: 45231
B12: 7 | C12: 45261
B13: 8 | C13: 45292
B14: 9 | C14: 45323
B15: 10 | C15: 45352
B16: 11 | C16: 45383
B17: 12 | C17: 45413
... B229: 224 | C229: 51867

Sheet Corrected and Updated TSF 1
A1: The Southprime Flats | N1: =O1/J13 -> 95909.091 | O1: =O2+O3 -> 2110000 | AA1: =SUM(J7:J12) -> 178.22 | AP1: =AP2-FK222 -> 0 | AS1: OLD | CB1: NEW. | CI1: =CH1 -> 0 | EX1: Simulation | FT1: Term | FU1: Interest Rate | FV1: Factor Rate | FW1: Ave. 90% Loanable | FX1: Interest for 6 months | GI1: ORIGINAL | GW1: SIMULATION FOR 22 MONTHS
A2: Mandurriao, Iloilo | E2: Lower GF will Ground Floor (Parking Space) | M2: Corner | O2: 110000 | AA2: =SUM(AA4,AA3) -> 3600000 | AM2: =SUBTOTAL(9,AM7:AM216) -> 958510.4 | AN2: =SUBTOTAL(9,AN7:AN216) -> 715972.66 | AO2: =SUBTOTAL(9,AO7:AO216) -> 0 | AP2: =SUBTOTAL(9,AP7:AP216) -> 2336095 | AT2: BIR THRESHOLD | BW2: Top up Incentive | BX2: 50000 | CC2: BIR THRESHOLD | CI2: (Linked to Computation - pls update value if needed) | CR2: =DATE(2025,8,1) -> 45870 | CS2: this month | EX2: TSF B1 UNSOLD | EY2: 65 | FT2: 10 | FU2: 0.085 | FV2: =PMT(FU2/12,FT2*12,-1) -> 0.012398569 | FW2: =FT223 -> 503520.27 | FX2: ='Amort Computation'!CJ32 -> 109616.42
A3: Building 1 Pricelist (Ver.01) | E3: Upper GF will be New 2nd Floor | K3: North | M3: End Unit | O3: 2000000 | AA3: =AA4*12.5% -> 400000 | AQ3: BIR THRESHOLD | AT3: 3199200 | BW3: Doc Incentive | BX3: 15000 | CC3: 3600000 | CI3: VAT threshold | CL3: 3199200 | CR3: =DATE(2028,5,1) -> 46874 | CS3: take out date | FW3: 0.12 | FX3: =FX2*FW3 -> 13153.971
K4: East | M4: Inner | O4: HIDE | P4: =P5*12% -> 2400 | R4: mark up for comm | AA4: 3200000 | AP4: based on 90% LA | AQ4: 3199200 | AT4: BOI THRESHOLD | BW4: Past Incentive | BX4: =-30000*1.12 -> -33600 | CC4: BOI THRESHOLD | CR4: 32 | CS4: commercial (based on TSF B3 term) | CV4: Interest Rate | CZ4: IN HOUSE LOAN MONTHLY AMORT TCP BALANCE | DH4: 45658 | DI4: Based on Construction | FC4: Basis for interest comp. | FF4: 85% Loanable | FI4: 90% Loanable | FW4: 0.08 | FX4: =FX2*FW4 -> 8769.314 | HB4: TSF B1
K5: etc | O5: CTS BARE | P5: 20000 | Q5: 50000 | R5: 0 | T5: 3000 | U5: 1000 | V5: 2500 | W5: 1000 | X5: 200 | Y5: 20000 | Z5: 75000 | AA5: =AA2/AA1 -> 20199.753 | AE5: ( = ) TOTAL ADDITIVES | AF5: 44848 | AG5: 0.025 | AH5: 44849 | AI5: 0.025 | AJ5: SHOULD BE | AK5: 0.05 | AM5: 0.01 | AN5: 27537.41 | AP5: =FK224 -> 0 | AR5: 0.045 | AT5: 2000000 | AW5: 0.12 | AY5: OLD | AZ5: 0.0125 | BA5: =RECOVERIES!H14 -> 165298.77 | BC5: 40656 | BD5: 0.0375 | BE5: 30000 | BG5: =RECOVERIES!H37 -> 73483.2 | BI5: 13104 | BK5: =RECOVERIES!H54 -> 101855.85 | BU5: 13104 | BZ5: =RECOVERIES!H93+RECOVERIES!N93 -> 673086.74 | CC5: 2000000 | CF5: 0.12 | CH5: New Selling Price | CK5: =7.5%+2.75% -> 0.1025 | CL5: 0.035 | CN5: 0.125 | CP5: 30000 | CS5: residential | CV5: 0.07 | CZ5: 0.088848789 | DA5: 0.035157033 | DB5: 0.025393427 | DC5: 0.019325567 | DH5: END OF CONSTRUCTION | DI5: 45231 | DK5: SHOULD BE EQUITY IN PRICELIST | DL5: =DI5 -> 45231 | DS5: WITH ADDITIVES | DT5: NO DISCOUNT APPLICATION | EY5: 0.15 | EZ5: 0.85 | FA5: 0.1 | FB5: 0.9 | FC5: =90%-85% | FF5: 0.85 | FG5: 0.085 | FI5: 0.9 | FJ5: 0.085 | FL5: =90%-85% | FO5: 27537.41 | FT5: 0.9 | FW5: Total | FX5: =SUM(FX2:FX4) -> 131539.71 | HB5: 25 | IE5: 45870
A6: Inventory Count | B6: SALE STATUS | C6: Inventory Count/Floor | D6: Physical Floor | E6: Floor Presentation | F6: Tagging | G6: Unit ID | H6: Unit Code | I6: Unit Type | J6: Area (sqm) | K6: Orientation | L6: View | M6: Classification | N6: Typical Selling Price/Sqm. | O6: Total Typical Selling Prie | P6: Smart Home | Q6: RECOVERY PROGRAM | R6: ( + ) LOFTED | S6: ( + ) NEAR AMENITIES | T6: ( + ) PREMIUM 8TH FLOOR | U6: ( + ) EAST VIEW | V6: ( + ) CORNER | W6: ( + ) END UNIT | X6: ( + ) FACING AMENITIES | Y6: ( + ) LEVEL ADDITIVES (@5th Floor) | Z6: LMF INCREASE | AA6: COMMON PARKING DISTRIBUTION | AB6: COMM RECOVERY | AC6: RENOVATION | AD6: REFUND | AF6: NEW SELLING PRICEL | AG6: 1ST INCREASE | AH6: =AF6 -> NEW SELLING PRICEL | AI6: 2ND INCREASE | AJ6: =AH6 -> NEW SELLING PRICEL | AK6: 3RD INCREASE | AL6: NEW SELLING PRICE | AM6: INCREASE | AN6: RECOVERY AMOUNT_3-29-23 | AP6: ADD: INTEREST FOR 6 MONTHS | AQ6: NEW SELLING PRICE | AR6: PRICE INCREASE_Dec. 1,2023 | AS6: NEW SELLING PRICE | AT6: CTS BARE/DOAS | AU6: HIC/SQM | AV6: HIC | AW6: HIC VAT | AX6: ( = ) TOTAL HIC | AY6: New Selling Price | AZ6: Price Increase (July 2024) | BA6: INCIDENTAL RECOVERY) (OCT 2024 | BB6: New Selling Price (Oct 2024) | BC6: INCIDENTAL RECOVERY (OCT 16, 2024) | BD6: Price Increase (Oct 16, 2024) | BE6: INCENTIVE RECOVERY W 1.12 | BF6: New Selling Price | BG6: INCIDENTAL RECOVERIES (Dec 2024) | BH6: New Selling Price (Dec 2024) | BI6: INCIDENTAL RECOVERIES (Jan 2025) | BJ6: New Selling Price (Jan 2025) | BK6: INCIDENTAL RECOVERIES (Feb 2025) | BL6: New Selling Price (Feb 2025) | BM6: INCIDENTAL RECOVERIES (Mar 2025) | BN6: New Selling Price (Mar 2025) | BO6: INCIDENTAL RECOVERIES (Apr 2025) | BP6: New Selling Price (Apr 2025) | BQ6: INCIDENTAL RECOVERIES (May 2025) | BR6: New Selling Price (May 2025) | BS6: INCIDENTAL RECOVERIES (June 2025) | BT6: New Selling Price (June 2025) | BU6: INCIDENTAL RECOVERIES (July 2025) | BV6: New Selling Price (July 2025) | BW6: INCIDENTAL RECOVERIES (August 2025) | BX6: Top-up Incentive + Documentrary Incentive - Past Cash Incentive | BY6: New Selling Price (Aug 2025) | BZ6: INCIDENTAL RECOVERIES (Sep 2025) | CA6: New Selling Price (Sep 2025) | CB6: New Selling Price | CC6: CTS BARE/DOAS | CD6: HIC/SQM | CE6: HIC | CF6: HIC VAT | CG6: ( = ) TOTAL HIC | CH6: New Selling Price | CI6: New Selling Price | CJ6: 12% VAT | CK6: LMF | CL6: BF | CM6: Total Contract Price | CN6: Equity Rate | CO6: Equity | CP6: Reservation Fee | CQ6: Net Equity | CR6: Equity Term (Months) | CS6: Monthly Equity | CT6: Balance % | CU6: Loanable Amount | CV6: Monthly Amort. 20 years @ 7% | CW6: Monthly Amort. 15 years @ 7% | CX6: Monthly Amort. 10 years @ 7% | CY6: Monthly Amort. 5 years @ 7% | CZ6: IN HOUSE MONTHLY AMORT 1YR. @12% | DA6: IN HOUSE MONTHLY AMORT 3YRS. @16% | DB6: IN HOUSE MONTHLY AMORT 5YRS. @18% | DC6: IN HOUSE MONTHLY AMORT 10YRS. @20% | DD6: HIC % (old) | DE6: HIC % (new) | DF6: TAGGING (old) | DG6: TAGGING (new) | DH6: TURN OVER DATE | DI6: REMAINING EQUITY | DK6: ( + ) 2 MONTHS FOR PMD TURN OVER TO BUYER | DL6: MAXIMIZE EQUITY DP MONTHS | DM6: BOI STATUS | DN6: DOCS STATUS | DO6: HIC / SQM. (INCLUSIVE OF VAT) | DP6: TOTAL HIC AMOUNT | DQ6: HIC PERCENTAGE | DS6: CURRENT PRICE STUDY | DT6: ORIGINAL NSP | DU6: VARIANCE | DW6: NSP/SQM (CURRENT SP) | DZ6: NEW PLAN | EA6: VARIANCE | EB6: CLIENTS NAME | EC6: REMARKS | EJ6: Step-Up Computation | ER6: SALES STATUS | ES6: MASTERLIST | ET6: CHECKING | EX6: TCP | EY6: Required Equity | EZ6: Loanable | FA6: Required Equity | FB6: Loanable | FC6: Variance of Loanable | FF6: Loanable | FG6: Annual Interest | FH6: 6 months interest | FI6: Loanable | FJ6: Annual Interest | FK6: 6 months interest | FL6: Variance of Annual Interest | FM6: Buffer for applying 10/90 formula for the increase | FN6: VS | FO6: Recovery Amount per Unit | FP6: Variance for Recovery | FT6: 90% of TCP | FY6: CURRENT | GA6: UPDATED (APPROVED) | GI6: =CM6 -> Total Contract Price | GJ6: =CN6 -> Equity Rate | GK6: =CO6 -> Equity | GL6: =CP6 -> Reservation Fee | GM6: =CQ6 -> Net Equity | GN6: =CR6 -> Equity Term (Months) | GO6: =CS6 -> Monthly Equity | GP6: =CT6 -> Balance % | ... GU6: =CY6 -> Monthly Amort. 5 years @ 7% | GW6: =GI6 -> Total Contract Price | GX6: =GJ6 -> Equity Rate | GY6: =GK6 -> Equity | GZ6: =GL6 -> Reservation Fee | HA6: =GM6 -> Net Equity | HB6: =GN6 -> Equity Term (Months) | HC6: =GO6 -> Monthly Equity | HD6: =GP6 -> Balance % | ... HI6: =GU6 -> Monthly Amort. 5 years @ 7% | HK6: VARIANCE ON MONTHLY EQUITY | HR6: VARIANCE | IC6: Floor | ID6: Takeout / Client Move In | IE6: Equity Term
A7: 1 | C7: 1 | D7: 2nd Floor | E7: =D7 -> 2nd Floor | G7: C1 | H7: 1 | I7: Commercial | J7: 35.4 | M7: End | N7: 200000 | O7: =J7*N7 -> 7080000 | AA7: =$AA$5*J7 -> 715071.26 | AE7: =SUM(P7:AD7) -> 715071.26 | AF7: =O7+AE7 -> 7795071.3 | AG7: =AF7*$AG$5 -> 194876.78 | AH7: =AF7+AG7 -> 7989948 | AI7: =AH7*$AI$5 -> 199748.7 | AJ7: =AH7+AI7 -> 8189696.7 | AK7: =AJ7*$AK$5 -> 409484.84 | AL7: =AJ7+AK7 -> 8599181.6 | AM7: =AL7*$AM$5 -> 85991.816 | AN7: =$AN$5 -> 27537.41 | AQ7: =AL7+AM7+AP7+AN7+AO7 -> 8712710.8 | AR7: =AQ7*$AR$5 -> 392071.99 | AS7: =AQ7+AR7 -> 9104782.8 | AU7: =AV7/J7 -> 0 | AW7: =AV7*$AW$5 -> 0 | AX7: =AV7+AW7 -> 0 | AY7: =AS7+AW7 -> 9104782.8 | AZ7: =AY7*$AZ$5 -> 113809.78 | BA7: 13774.898 | BB7: =SUM(AY7:BA7) -> 9232367.5 | BC7: 2710.4 | BD7: =BB7*$BD$5 -> 346213.78 | BE7: =$BE$5*1.12 -> 33600 | BF7: =BB7+BC7+BD7+BE7 -> 9614891.7 | BG7: 5248.8 | BH7: =BF7+BG7 -> 9620140.5 | BJ7: =BH7+BI7 -> 9620140.5 | BK7: 5092.7923 | BL7: =BJ7+BK7 -> 9625233.2 | BN7: =BL7+BM7 -> 9625233.2 | BP7: =BN7+BO7 -> 9625233.2 | BR7: =BP7+BQ7 -> 9625233.2 | BT7: =BR7+BS7 -> 9625233.2 | BU7: =$BU$5/24 -> 546 | BV7: =BT7+BU7 -> 9625779.2 | BW7: 0 | BY7: =SUM(BV7:BX7) -> 9625779.2 | CA7: =BY7+BZ7 -> 9625779.2 | CB7: =CA7 -> 9625779.2 | CC7: =CB7 -> 9625779.2 | CF7: =CE7*$AW$5 -> 0 | CG7: =CE7+CF7 -> 0 | CH7: =CC7+CE7+CF7 -> 9625779.2 | CI7: =CH7 -> 9625779.2 | CJ7: =IF(CC7<=$CC$3,0,12%*CC7) -> 1155093.5 | CK7: =CI7*CK$5 -> 986642.37 | CL7: =CI7*CL$5 -> 336902.27 | CM7: =SUM(CI7:CL7) -> 12104417 | CN7: 0.2 | CO7: =CM7*CN7 -> 2420883.5 | CP7: 200000 | CQ7: =CO7-CP7 -> 2220883.5 | CR7: 32 | CS7: =CQ7/CR7 -> 69402.609 | CT7: =100%-CN7 -> 0.8 | CU7: =CM7*CT7 -> 9683533.9 | CV7: =-PMT($CV$5/12,240,CU7,0) -> 75076.335 | CW7: =-PMT($CV$5/12,180,CU7,0) -> 87038.341 | CX7: =-PMT($CV$5/12,120,CU7,0) -> 112434.04 | CY7: =-PMT($CV$5/12,60,CU7,0) -> 191745.58 | CZ7: =(CM7*CT7)*$CZ$5 -> 860370.26 | DA7: =(CM7*CT7)*$DA$5 -> 340444.32 | DB7: =(CM7*CT7)*$DB$5 -> 245898.11 | DC7: =(CM7*CT7)*$DC$5 -> 187139.78 | DH7: =DH4 -> 45658 | DI7: =(YEAR(DH7)-YEAR($DI$5))*12+MONTH(DH7)-MONTH($DI$5) -> 14 | DK7: =DH7+65 -> 45723 | DL7: =(YEAR(DK7)-YEAR($DL$5))*12+MONTH(DK7)-MONTH($DL$5) -> 16 | DM7: NON-BOI | DN7: CTS FITTED | DO7: =DP7/J7 -> 0 | DP7: =AX7 -> 0 | DU7: =DS7-DT7 -> 0 | DW7: =CI7/J7 -> 271914.67 | DZ7: C1 | EA7: =G7=DZ7 -> TRUE | EJ7: Net Equity | EL7: =CQ13 -> 411606.33 | ER7: UNSOLD | ES7: UNSOLD | ET7: =ER7=ES7 -> TRUE | FY7: TERM | FZ7: END EQUITY | GA7: TERM (w/ additional buffer) | GB7: END EQUITY | GC7: For the month of | GI7: =CM7 -> 12104417 | GJ7: =CN7 -> 0.2 | GK7: =CO7 -> 2420883.5 | GL7: =CP7 -> 200000 | GM7: =CQ7 -> 2220883.5 | GN7: =CR7 -> 32 | GO7: =CS7 -> 69402.609 | GP7: =CT7 -> 0.8 | ... GU7: =CY7 -> 191745.58 | GW7: =GI7 -> 12104417 | GX7: =GJ7 -> 0.2 | GY7: =GK7 -> 2420883.5 | GZ7: =GL7 -> 200000 | HA7: =GM7 -> 2220883.5 | HB7: =$HB$5 -> 25 | HC7: =HA7/HB7 -> 88835.339 | HD7: =100%-GX7 -> 0.8 | HE7: =GW7*HD7 -> 9683533.9 | HF7: =-PMT(7%/12,240,HE7,0) -> 75076.335 | HG7: =-PMT(7%/12,180,HE7,0) -> 87038.341 | HH7: =-PMT(7%/12,120,HE7,0) -> 112434.04 | HI7: =-PMT(7%/12,60,HE7,0) -> 191745.58 | HK7: =HC7-GO7 -> 19432.73 | HR7: =CB7-CH7 -> 0
A8: =A7+1 -> 2 | C8: =C7+1 -> 2 | D8: 2nd Floor | E8: =D8 -> 2nd Floor | G8: C2 | H8: =H7+1 -> 2 | I8: Commercial | J8: 20.72 | M8: End | N8: 200000 | O8: =J8*N8 -> 4144000 | AA8: =$AA$5*J8 -> 418538.88 | AE8: =SUM(P8:AD8) -> 418538.88 | AF8: =O8+AE8 -> 4562538.9 | AG8: =AF8*$AG$5 -> 114063.47 | AH8: =AF8+AG8 -> 4676602.4 | AI8: =AH8*$AI$5 -> 116915.06 | AJ8: =AH8+AI8 -> 4793517.4 | AK8: =AJ8*$AK$5 -> 239675.87 | AL8: =AJ8+AK8 -> 5033193.3 | AM8: =AL8*$AM$5 -> 50331.933 | AN8: =$AN$5 -> 27537.41 | AQ8: =AL8+AM8+AP8+AN8+AO8 -> 5111062.6 | AR8: =AQ8*$AR$5 -> 229997.82 | AS8: =AQ8+AR8 -> 5341060.4 | AU8: =AV8/J8 -> 0 | AW8: =AV8*$AW$5 -> 0 | AX8: =AV8+AW8 -> 0 | AY8: =AS8+AW8 -> 5341060.4 | AZ8: =AY8*$AZ$5 -> 66763.256 | BA8: 13774.898 | BB8: =SUM(AY8:BA8) -> 5421598.6 | BC8: 2710.4 | BD8: =BB8*$BD$5 -> 203309.95 | BE8: =$BE$5*1.12 -> 33600 | BF8: =BB8+BC8+BD8+BE8 -> 5661218.9 | BG8: 5248.8 | BH8: =BF8+BG8 -> 5666467.7 | BJ8: =BH8+BI8 -> 5666467.7 | BK8: 5092.7923 | BL8: =BJ8+BK8 -> 5671560.5 | BN8: =BL8+BM8 -> 5671560.5 | BP8: =BN8+BO8 -> 5671560.5 | BR8: =BP8+BQ8 -> 5671560.5 | BT8: =BR8+BS8 -> 5671560.5 | BU8: =$BU$5/24 -> 546 | BV8: =BT8+BU8 -> 5672106.5 | BY8: =SUM(BV8:BX8) -> 5672106.5 | CA8: =BY8+BZ8 -> 5672106.5 | CB8: =CA8 -> 5672106.5 | CC8: =CB8-CE8-CF8 -> 5672106.5 | CE8: =CD8*J8 -> 0 | CF8: =CE8*$AW$5 -> 0 | CG8: =CE8+CF8 -> 0 | CH8: =CC8+CE8+CF8 -> 5672106.5 | CI8: =CH8 -> 5672106.5 | CJ8: =IF(CC8<=$CC$3,0,12%*CC8) -> 680652.78 | CK8: =CI8*CK$5 -> 581390.92 | CL8: =CI8*CL$5 -> 198523.73 | CM8: =SUM(CI8:CL8) -> 7132674 | CN8: 0.2 | CO8: =CM8*CN8 -> 1426534.8 | CP8: 200000 | CQ8: =CO8-CP8 -> 1226534.8 | CR8: 32 | CS8: =CQ8/CR8 -> 38329.212 | CT8: =100%-CN8 -> 0.8 | CU8: =CM8*CT8 -> 5706139.2 | CV8: =-PMT($CV$5/12,240,CU8,0) -> 44239.636 | CW8: =-PMT($CV$5/12,180,CU8,0) -> 51288.392 | CX8: =-PMT($CV$5/12,120,CU8,0) -> 66253.114 | CY8: =-PMT($CV$5/12,60,CU8,0) -> 112988.39 | CZ8: =(CM8*CT8)*$CZ$5 -> 506983.56 | DA8: =(CM8*CT8)*$DA$5 -> 200610.92 | DB8: =(CM8*CT8)*$DB$5 -> 144898.43 | DC8: =(CM8*CT8)*$DC$5 -> 110274.38 | DE8: =CE8/CC8 -> 0 | DH8: =$DH$7 -> 45658 | DI8: =(YEAR(DH8)-YEAR($DI$5))*12+MONTH(DH8)-MONTH($DI$5) -> 14 | DK8: =DH8+65 -> 45723 | DL8: =(YEAR(DK8)-YEAR($DL$5))*12+MONTH(DK8)-MONTH($DL$5)+$DL$4+$DL$3 -> 16 | DM8: NON-BOI | DN8: CTS FITTED | DO8: =DP8/J8 -> 0 | DP8: =AX8 -> 0 | DU8: =DS8-DT8 -> 0 | DW8: =CI8/J8 -> 273750.32 | DZ8: C2 | EA8: =G8=DZ8 -> TRUE | EK8: Months Covered | EL8: Months | EM8: % | EN8: Total | EO8: Monthly | ER8: UNSOLD | ES8: UNSOLD | ET8: =ER8=ES8 -> TRUE | FY8: 28 | FZ8: =EDATE($DL$5,FY8) -> 46082 | GA8: 30 | GB8: =EDATE(GC8,GA8) -> 45962 | GC8: 45047 | GI8: =CM8 -> 7132674 | GJ8: =CN8 -> 0.2 | GK8: =CO8 -> 1426534.8 | GL8: =CP8 -> 200000 | GM8: =CQ8 -> 1226534.8 | GN8: =CR8 -> 32 | GO8: =CS8 -> 38329.212 | GP8: =CT8 -> 0.8 | ... GU8: =CY8 -> 112988.39 | GW8: =GI8 -> 7132674 | GX8: =GJ8 -> 0.2 | GY8: =GK8 -> 1426534.8 | GZ8: =GL8 -> 200000 | HA8: =GM8 -> 1226534.8 | HB8: =$HB$5 -> 25 | HC8: =HA8/HB8 -> 49061.392 | HD8: =100%-GX8 -> 0.8 | HE8: =GW8*HD8 -> 5706139.2 | HF8: =-PMT(7%/12,240,HE8,0) -> 44239.636 | HG8: =-PMT(7%/12,180,HE8,0) -> 51288.392 | HH8: =-PMT(7%/12,120,HE8,0) -> 66253.114 | HI8: =-PMT(7%/12,60,HE8,0) -> 112988.39 | HK8: =HC8-GO8 -> 10732.179 | HM8: Updated schedule as of Oct. 2024 | HR8: =CB8-CH8 -> 0 | IC8: 2nd Floor | ID8: =DATE(2025,10,1) -> 45931 | IE8: =DATEDIF($IE$5,ID8,"m") -> 2
A9: =A8+1 -> 3 | C9: =C8+1 -> 3 | D9: 2nd Floor | E9: =D9 -> 2nd Floor | G9: C3 | H9: =H8+1 -> 3 | I9: Commercial | J9: 20.72 | M9: End | N9: 200000 | O9: =J9*N9 -> 4144000 | AA9: =$AA$5*J9 -> 418538.88 | AE9: =SUM(P9:AD9) -> 418538.88 | AF9: =O9+AE9 -> 4562538.9 | AG9: =AF9*$AG$5 -> 114063.47 | AH9: =AF9+AG9 -> 4676602.4 | AI9: =AH9*$AI$5 -> 116915.06 | AJ9: =AH9+AI9 -> 4793517.4 | AK9: =AJ9*$AK$5 -> 239675.87 | AL9: =AJ9+AK9 -> 5033193.3 | AM9: =AL9*$AM$5 -> 50331.933 | AN9: =$AN$5 -> 27537.41 | AQ9: =AL9+AM9+AP9+AN9+AO9 -> 5111062.6 | AR9: =AQ9*$AR$5 -> 229997.82 | AS9: =AQ9+AR9 -> 5341060.4 | AU9: =AV9/J9 -> 0 | AW9: =AV9*$AW$5 -> 0 | AX9: =AV9+AW9 -> 0 | AY9: =AS9+AW9 -> 5341060.4 | AZ9: =AY9*$AZ$5 -> 66763.256 | BA9: 13774.898 | BB9: =SUM(AY9:BA9) -> 5421598.6 | BC9: 2710.4 | BD9: =BB9*$BD$5 -> 203309.95 | BE9: =$BE$5*1.12 -> 33600 | BF9: =BB9+BC9+BD9+BE9 -> 5661218.9 | BG9: 5248.8 | BH9: =BF9+BG9 -> 5666467.7 | BJ9: =BH9+BI9 -> 5666467.7 | BK9: 5092.7923 | BL9: =BJ9+BK9 -> 5671560.5 | BN9: =BL9+BM9 -> 5671560.5 | BP9: =BN9+BO9 -> 5671560.5 | BR9: =BP9+BQ9 -> 5671560.5 | BT9: =BR9+BS9 -> 5671560.5 | BU9: =$BU$5/24 -> 546 | BV9: =BT9+BU9 -> 5672106.5 | BY9: =SUM(BV9:BX9) -> 5672106.5 | CA9: =BY9+BZ9 -> 5672106.5 | CB9: =CA9 -> 5672106.5 | CC9: =CB9-CE9-CF9 -> 5672106.5 | CE9: =CD9*J9 -> 0 | CF9: =CE9*$AW$5 -> 0 | CG9: =CE9+CF9 -> 0 | CH9: =CC9+CE9+CF9 -> 5672106.5 | CI9: =CH9 -> 5672106.5 | CJ9: =IF(CC9<=$CC$3,0,12%*CC9) -> 680652.78 | CK9: =CI9*CK$5 -> 581390.92 | CL9: =CI9*CL$5 -> 198523.73 | CM9: =SUM(CI9:CL9) -> 7132674 | CN9: 0.2 | CO9: =CM9*CN9 -> 1426534.8 | CP9: 200000 | CQ9: =CO9-CP9 -> 1226534.8 | CR9: 32 | CS9: =CQ9/CR9 -> 38329.212 | CT9: =100%-CN9 -> 0.8 | CU9: =CM9*CT9 -> 5706139.2 | CV9: =-PMT($CV$5/12,240,CU9,0) -> 44239.636 | CW9: =-PMT($CV$5/12,180,CU9,0) -> 51288.392 | CX9: =-PMT($CV$5/12,120,CU9,0) -> 66253.114 | CY9: =-PMT($CV$5/12,60,CU9,0) -> 112988.39 | CZ9: =(CM9*CT9)*$CZ$5 -> 506983.56 | DA9: =(CM9*CT9)*$DA$5 -> 200610.92 | DB9: =(CM9*CT9)*$DB$5 -> 144898.43 | DC9: =(CM9*CT9)*$DC$5 -> 110274.38 | DE9: =CE9/CC9 -> 0 | DH9: =$DH$7 -> 45658 | DI9: =(YEAR(DH9)-YEAR($DI$5))*12+MONTH(DH9)-MONTH($DI$5) -> 14 | DK9: =DH9+65 -> 45723 | DL9: =(YEAR(DK9)-YEAR($DL$5))*12+MONTH(DK9)-MONTH($DL$5)+$DL$4+$DL$3 -> 16 | DM9: NON-BOI | DN9: CTS FITTED | DO9: =DP9/J9 -> 0 | DP9: =AX9 -> 0 | DU9: =DS9-DT9 -> 0 | DW9: =CI9/J9 -> 273750.32 | DZ9: C3 | EA9: =G9=DZ9 -> TRUE | EJ9: Step Up 1 | EN9: =EL7*EM9 -> 0 | EO9: =EN9/EL9 -> #DIV/0! | ER9: UNSOLD | ES9: UNSOLD | ET9: =ER9=ES9 -> TRUE | GA9: 29 | GB9: =EDATE(GC9,GA9) -> 45962 | GC9: 45078 | GI9: =CM9 -> 7132674 | GJ9: =CN9 -> 0.2 | GK9: =CO9 -> 1426534.8 | GL9: =CP9 -> 200000 | GM9: =CQ9 -> 1226534.8 | GN9: =CR9 -> 32 | GO9: =CS9 -> 38329.212 | GP9: =CT9 -> 0.8 | ... GU9: =CY9 -> 112988.39 | GW9: =GI9 -> 7132674 | GX9: =GJ9 -> 0.2 | GY9: =GK9 -> 1426534.8 | GZ9: =GL9 -> 200000 | HA9: =GM9 -> 1226534.8 | HB9: =$HB$5 -> 25 | HC9: =HA9/HB9 -> 49061.392 | HD9: =100%-GX9 -> 0.8 | HE9: =GW9*HD9 -> 5706139.2 | HF9: =-PMT(7%/12,240,HE9,0) -> 44239.636 | HG9: =-PMT(7%/12,180,HE9,0) -> 51288.392 | HH9: =-PMT(7%/12,120,HE9,0) -> 66253.114 | HI9: =-PMT(7%/12,60,HE9,0) -> 112988.39 | HK9: =HC9-GO9 -> 10732.179 | HR9: =CB9-CH9 -> 0 | IC9: 3rd Floor | ID9: =DATE(2025,9,1) -> 45901 | IE9: =DATEDIF($IE$5,ID9,"m") -> 1
A10: =A9+1 -> 4 | C10: =C9+1 -> 4 | D10: 2nd Floor | E10: =D10 -> 2nd Floor | G10: C4 | H10: =H9+1 -> 4 | I10: Commercial | J10: 22.18 | M10: Inner | N10: 200000 | O10: =J10*N10 -> 4436000 | AA10: =$AA$5*J10 -> 448030.52 | AE10: =SUM(P10:AD10) -> 448030.52 | AF10: =O10+AE10 -> 4884030.5 | AG10: =AF10*$AG$5 -> 122100.76 | AH10: =AF10+AG10 -> 5006131.3 | AI10: =AH10*$AI$5 -> 125153.28 | AJ10: =AH10+AI10 -> 5131284.6 | AK10: =AJ10*$AK$5 -> 256564.23 | AL10: =AJ10+AK10 -> 5387848.8 | AM10: =AL10*$AM$5 -> 53878.488 | AN10: =$AN$5 -> 27537.41 | AQ10: =AL10+AM10+AP10+AN10+AO10 -> 5469264.7 | AR10: =AQ10*$AR$5 -> 246116.91 | AS10: =AQ10+AR10 -> 5715381.6 | AU10: =AV10/J10 -> 0 | AW10: =AV10*$AW$5 -> 0 | AX10: =AV10+AW10 -> 0 | AY10: =AS10+AW10 -> 5715381.6 | AZ10: =AY10*$AZ$5 -> 71442.27 | BA10: 13774.898 | BB10: =SUM(AY10:BA10) -> 5800598.8 | BC10: 2710.4 | BD10: =BB10*$BD$5 -> 217522.45 | BE10: =$BE$5*1.12 -> 33600 | BF10: =BB10+BC10+BD10+BE10 -> 6054431.6 | BG10: 5248.8 | BH10: =BF10+BG10 -> 6059680.4 | BJ10: =BH10+BI10 -> 6059680.4 | BK10: 5092.7923 | BL10: =BJ10+BK10 -> 6064773.2 | BN10: =BL10+BM10 -> 6064773.2 | BP10: =BN10+BO10 -> 6064773.2 | BR10: =BP10+BQ10 -> 6064773.2 | BT10: =BR10+BS10 -> 6064773.2 | BU10: =$BU$5/24 -> 546 | BV10: =BT10+BU10 -> 6065319.2 | BY10: =SUM(BV10:BX10) -> 6065319.2 | CA10: =BY10+BZ10 -> 6065319.2 | CB10: =CA10 -> 6065319.2 | CC10: =CB10-CE10-CF10 -> 6065319.2 | CE10: =CD10*J10 -> 0 | CF10: =CE10*$AW$5 -> 0 | CG10: =CE10+CF10 -> 0 | CH10: =CC10+CE10+CF10 -> 6065319.2 | CI10: =CH10 -> 6065319.2 | CJ10: =IF(CC10<=$CC$3,0,12%*CC10) -> 727838.31 | CK10: =CI10*CK$5 -> 621695.22 | CL10: =CI10*CL$5 -> 212286.17 | CM10: =SUM(CI10:CL10) -> 7627138.9 | CN10: 0.2 | CO10: =CM10*CN10 -> 1525427.8 | CP10: 200000 | CQ10: =CO10-CP10 -> 1325427.8 | CR10: 32 | CS10: =CQ10/CR10 -> 41419.618 | CT10: =100%-CN10 -> 0.8 | CU10: =CM10*CT10 -> 6101711.1 | CV10: =-PMT($CV$5/12,240,CU10,0) -> 47306.501 | CW10: =-PMT($CV$5/12,180,CU10,0) -> 54843.905 | CX10: =-PMT($CV$5/12,120,CU10,0) -> 70846.04 | CY10: =-PMT($CV$5/12,60,CU10,0) -> 120821.19 | CZ10: =(CM10*CT10)*$CZ$5 -> 542129.65 | DA10: =(CM10*CT10)*$DA$5 -> 214518.06 | DB10: =(CM10*CT10)*$DB$5 -> 154943.36 | DC10: =(CM10*CT10)*$DC$5 -> 117919.03 | DE10: =CE10/CC10 -> 0 | DH10: =$DH$7 -> 45658 | DI10: =(YEAR(DH10)-YEAR($DI$5))*12+MONTH(DH10)-MONTH($DI$5) -> 14 | DK10: =DH10+65 -> 45723 | DL10: =(YEAR(DK10)-YEAR($DL$5))*12+MONTH(DK10)-MONTH($DL$5)+$DL$4 -> 16 | DM10: NON-BOI | DN10: CTS FITTED | DO10: =DP10/J10 -> 0 | DP10: =AX10 -> 0 | DU10: =DS10-DT10 -> 0 | DW10: =CI10/J10 -> 273458.94 | DZ10: C4 | EA10: =G10=DZ10 -> TRUE | EJ10: Step Up 2 | EN10: =EL7*EM10 -> 0 | EO10: =EN10/EL10 -> #DIV/0! | ER10: UNSOLD | ES10: UNSOLD | ET10: =ER10=ES10 -> TRUE | GA10: 28 | GB10: =EDATE(GC10,GA10) -> 45962 | GC10: 45108 | GI10: =CM10 -> 7627138.9 | GJ10: =CN10 -> 0.2 | GK10: =CO10 -> 1525427.8 | GL10: =CP10 -> 200000 | GM10: =CQ10 -> 1325427.8 | GN10: =CR10 -> 32 | GO10: =CS10 -> 41419.618 | GP10: =CT10 -> 0.8 | ... GU10: =CY10 -> 120821.19 | GW10: =GI10 -> 7627138.9 | GX10: =GJ10 -> 0.2 | GY10: =GK10 -> 1525427.8 | GZ10: =GL10 -> 200000 | HA10: =GM10 -> 1325427.8 | HB10: =$HB$5 -> 25 | HC10: =HA10/HB10 -> 53017.111 | HD10: =100%-GX10 -> 0.8 | HE10: =GW10*HD10 -> 6101711.1 | HF10: =-PMT(7%/12,240,HE10,0) -> 47306.501 | HG10: =-PMT(7%/12,180,HE10,0) -> 54843.905 | HH10: =-PMT(7%/12,120,HE10,0) -> 70846.04 | HI10: =-PMT(7%/12,60,HE10,0) -> 120821.19 | HK10: =HC10-GO10 -> 11597.493 | HR10: =CB10-CH10 -> 0 | IC10: 4th Floor | ID10: =DATE(2025,9,1) -> 45901 | IE10: =DATEDIF($IE$5,ID10,"m") -> 1
A11: =A10+1 -> 5 | C11: =C10+1 -> 5 | D11: 2nd Floor | E11: =D11 -> 2nd Floor | G11: C5 | H11: =H10+1 -> 5 | I11: Commercial | J11: 40 | M11: Inner | N11: 200000 | O11: =J11*N11 -> 8000000 | AA11: =$AA$5*J11 -> 807990.12 | AE11: =SUM(P11:AD11) -> 807990.12 | AF11: =O11+AE11 -> 8807990.1 | AG11: =AF11*$AG$5 -> 220199.75 | AH11: =AF11+AG11 -> 9028189.9 | AI11: =AH11*$AI$5 -> 225704.75 | AJ11: =AH11+AI11 -> 9253894.6 | AK11: =AJ11*$AK$5 -> 462694.73 | AL11: =AJ11+AK11 -> 9716589.4 | AM11: =AL11*$AM$5 -> 97165.894 | AN11: =$AN$5 -> 27537.41 | AQ11: =AL11+AM11+AP11+AN11+AO11 -> 9841292.7 | AR11: =AQ11*$AR$5 -> 442858.17 | AS11: =AQ11+AR11 -> 10284151 | AU11: =AV11/J11 -> 0 | AW11: =AV11*$AW$5 -> 0 | AX11: =AV11+AW11 -> 0 | AY11: =AS11+AW11 -> 10284151 | AZ11: =AY11*$AZ$5 -> 128551.89 | BA11: 13774.898 | BB11: =SUM(AY11:BA11) -> 10426478 | BC11: 2710.4 | BD11: =BB11*$BD$5 -> 390992.91 | BE11: =$BE$5*1.12 -> 33600 | BF11: =BB11+BC11+BD11+BE11 -> 10853781 | BG11: 5248.8 | BH11: =BF11+BG11 -> 10859030 | BJ11: =BH11+BI11 -> 10859030 | BK11: 5092.7923 | BL11: =BJ11+BK11 -> 10864123 | BN11: =BL11+BM11 -> 10864123 | BP11: =BN11+BO11 -> 10864123 | BR11: =BP11+BQ11 -> 10864123 | BT11: =BR11+BS11 -> 10864123 | BU11: =$BU$5/24 -> 546 | BV11: =BT11+BU11 -> 10864669 | BY11: =SUM(BV11:BX11) -> 10864669 | CA11: =BY11+BZ11 -> 10864669 | CB11: =CA11 -> 10864669 | CC11: =CB11-CE11-CF11 -> 10864669 | CE11: =CD11*J11 -> 0 | CF11: =CE11*$AW$5 -> 0 | CG11: =CE11+CF11 -> 0 | CH11: =CB11 -> 10864669 | CI11: =CH11 -> 10864669 | CJ11: =IF(CC11<=$CC$3,0,12%*CC11) -> 1303760.2 | CK11: =CI11*CK$5 -> 1113628.5 | CL11: =CI11*CL$5 -> 380263.4 | CM11: =SUM(CI11:CL11) -> 13662321 | CN11: 0.2 | CO11: =CM11*CN11 -> 2732464.1 | CP11: 200000 | CQ11: =CO11-CP11 -> 2532464.1 | CR11: 32 | CS11: =CQ11/CR11 -> 79139.504 | CT11: =100%-CN11 -> 0.8 | CU11: =CM11*CT11 -> 10929857 | CV11: =-PMT($CV$5/12,240,CU11,0) -> 84739.061 | CW11: =-PMT($CV$5/12,180,CU11,0) -> 98240.64 | CX11: =-PMT($CV$5/12,120,CU11,0) -> 126904.9 | CY11: =-PMT($CV$5/12,60,CU11,0) -> 216424.26 | CZ11: =(CM11*CT11)*$CZ$5 -> 971104.52 | DA11: =(CM11*CT11)*$DA$5 -> 384261.33 | DB11: =(CM11*CT11)*$DB$5 -> 277546.51 | DC11: =(CM11*CT11)*$DC$5 -> 211225.67 | DH11: =$DH$7 -> 45658 | DI11: =(YEAR(DH11)-YEAR($DI$5))*12+MONTH(DH11)-MONTH($DI$5) -> 14 | DK11: =DH11+65 -> 45723 | DL11: =(YEAR(DK11)-YEAR($DL$5))*12+MONTH(DK11)-MONTH($DL$5)+$DL$4+$DL$3 -> 16 | DM11: NON-BOI | DN11: CTS FITTED | DO11: =DP11/J11 -> 0 | DP11: =AX11 -> 0 | DU11: =DS11-DT11 -> 0 | DW11: =CI11/J11 -> 271616.71 | DZ11: C5 | EA11: =G11=DZ11 -> TRUE | EN11: =EL7*EM11 -> 0 | ER11: UNSOLD | ES11: UNSOLD | ET11: =ER11=ES11 -> TRUE | GA11: =27+3 -> 30 | GB11: =EDATE(GC11,GA11) -> 46054 | GC11: 45139 | GI11: =CM11 -> 13662321 | GJ11: =CN11 -> 0.2 | GK11: =CO11 -> 2732464.1 | GL11: =CP11 -> 200000 | GM11: =CQ11 -> 2532464.1 | GN11: =CR11 -> 32 | GO11: =CS11 -> 79139.504 | GP11: =CT11 -> 0.8 | ... GU11: =CY11 -> 216424.26 | GW11: =GI11 -> 13662321 | GX11: =GJ11 -> 0.2 | GY11: =GK11 -> 2732464.1 | GZ11: =GL11 -> 200000 | HA11: =GM11 -> 2532464.1 | HB11: =$HB$5 -> 25 | HC11: =HA11/HB11 -> 101298.57 | HD11: =100%-GX11 -> 0.8 | HE11: =GW11*HD11 -> 10929857 | HF11: =-PMT(7%/12,240,HE11,0) -> 84739.061 | HG11: =-PMT(7%/12,180,HE11,0) -> 98240.64 | HH11: =-PMT(7%/12,120,HE11,0) -> 126904.9 | HI11: =-PMT(7%/12,60,HE11,0) -> 216424.26 | HK11: =HC11-GO11 -> 22159.061 | HR11: =CB11-CH11 -> 0 | IC11: 5th Floor | ID11: =DATE(2025,9,1) -> 45901 | IE11: =DATEDIF($IE$5,ID11,"m") -> 1
A12: =A11+1 -> 6 | C12: =C11+1 -> 6 | D12: 2nd Floor | E12: =D12 -> 2nd Floor | G12: C6 | H12: =H11+1 -> 6 | I12: Commercial | J12: 39.2 | M12: Corner | N12: 200000 | O12: =J12*N12 -> 7840000 | AA12: =$AA$5*J12 -> 791830.32 | AE12: =SUM(P12:AD12) -> 791830.32 | AF12: =O12+AE12 -> 8631830.3 | AG12: =AF12*$AG$5 -> 215795.76 | AH12: =AF12+AG12 -> 8847626.1 | AI12: =AH12*$AI$5 -> 221190.65 | AJ12: =AH12+AI12 -> 9068816.7 | AK12: =AJ12*$AK$5 -> 453440.84 | AL12: =AJ12+AK12 -> 9522257.6 | AM12: =AL12*$AM$5 -> 95222.576 | AN12: =$AN$5 -> 27537.41 | AQ12: =AL12+AM12+AP12+AN12+AO12 -> 9645017.6 | AR12: =AQ12*$AR$5 -> 434025.79 | AS12: =AQ12+AR12 -> 10079043 | AU12: =AV12/J12 -> 0 | AW12: =AV12*$AW$5 -> 0 | AX12: =AV12+AW12 -> 0 | AY12: =AS12+AW12 -> 10079043 | AZ12: =AY12*$AZ$5 -> 125988.04 | BA12: 13774.898 | BB12: =SUM(AY12:BA12) -> 10218806 | BC12: 2710.4 | BD12: =BB12*$BD$5 -> 383205.24 | BE12: =$BE$5*1.12 -> 33600 | BF12: =BB12+BC12+BD12+BE12 -> 10638322 | BG12: 5248.8 | BH12: =BF12+BG12 -> 10643571 | BJ12: =BH12+BI12 -> 10643571 | BK12: 5092.7923 | BL12: =BJ12+BK12 -> 10648664 | BN12: =BL12+BM12 -> 10648664 | BP12: =BN12+BO12 -> 10648664 | BR12: =BP12+BQ12 -> 10648664 | BT12: =BR12+BS12 -> 10648664 | BU12: =$BU$5/24 -> 546 | BV12: =BT12+BU12 -> 10649210 | BY12: =SUM(BV12:BX12) -> 10649210 | CA12: =BY12+BZ12 -> 10649210 | CB12: =CA12 -> 10649210 | CC12: =CB12-CE12-CF12 -> 10649210 | CE12: =CD12*J12 -> 0 | CF12: =CE12*$AW$5 -> 0 | CG12: =CE12+CF12 -> 0 | CH12: =CB12 -> 10649210 | CI12: =CH12 -> 10649210 | CJ12: =IF(CC12<=$CC$3,0,12%*CC12) -> 1277905.1 | CK12: =CI12*CK$5 -> 1091544 | CL12: =CI12*CL$5 -> 372722.33 | CM12: =SUM(CI12:CL12) -> 13391381 | CN12: 0.2 | CO12: =CM12*CN12 -> 2678276.2 | CP12: 200000 | CQ12: =CO12-CP12 -> 2478276.2 | CR12: 32 | CS12: =CQ12/CR12 -> 77446.131 | CT12: =100%-CN12 -> 0.8 | CU12: =CM12*CT12 -> 10713105 | CV12: =-PMT($CV$5/12,240,CU12,0) -> 83058.587 | CW12: =-PMT($CV$5/12,180,CU12,0) -> 96292.414 | CX12: =-PMT($CV$5/12,120,CU12,0) -> 124388.23 | CY12: =-PMT($CV$5/12,60,CU12,0) -> 212132.31 | CZ12: =(CM12*CT12)*$CZ$5 -> 951846.39 | DA12: =(CM12*CT12)*$DA$5 -> 376640.98 | DB12: =(CM12*CT12)*$DB$5 -> 272042.44 | DC12: =(CM12*CT12)*$DC$5 -> 207036.82 | DH12: =$DH$7 -> 45658 | DI12: =(YEAR(DH12)-YEAR($DI$5))*12+MONTH(DH12)-MONTH($DI$5) -> 14 | DK12: =DH12+65 -> 45723 | DL12: =(YEAR(DK12)-YEAR($DL$5))*12+MONTH(DK12)-MONTH($DL$5)+$DL$4+$DL$3 -> 16 | DM12: NON-BOI | DN12: CTS FITTED | DO12: =DP12/J12 -> 0 | DP12: =AX12 -> 0 | DU12: =DS12-DT12 -> 0 | DW12: =CI12/J12 -> 271663.51 | DZ12: C6 | EA12: =G12=DZ12 -> TRUE | EJ12: Total | EL12: =SUM(EL9:EL11) -> 0 | EM12: =SUM(EM9:EM11) -> 0 | EN12: =SUM(EN9:EN11) -> 0 | ER12: UNSOLD | ES12: UNSOLD | ET12: =ER12=ES12 -> TRUE | GA12: 29 | GB12: =EDATE(GC12,GA12) -> 46054 | GC12: 45170 | GI12: =CM12 -> 13391381 | GJ12: =CN12 -> 0.2 | GK12: =CO12 -> 2678276.2 | GL12: =CP12 -> 200000 | GM12: =CQ12 -> 2478276.2 | GN12: =CR12 -> 32 | GO12: =CS12 -> 77446.131 | GP12: =CT12 -> 0.8 | ... GU12: =CY12 -> 212132.31 | GW12: =GI12 -> 13391381 | GX12: =GJ12 -> 0.2 | GY12: =GK12 -> 2678276.2 | GZ12: =GL12 -> 200000 | HA12: =GM12 -> 2478276.2 | HB12: =$HB$5 -> 25 | HC12: =HA12/HB12 -> 99131.048 | HD12: =100%-GX12 -> 0.8 | HE12: =GW12*HD12 -> 10713105 | HF12: =-PMT(7%/12,240,HE12,0) -> 83058.587 | HG12: =-PMT(7%/12,180,HE12,0) -> 96292.414 | HH12: =-PMT(7%/12,120,HE12,0) -> 124388.23 | HI12: =-PMT(7%/12,60,HE12,0) -> 212132.31 | HK12: =HC12-GO12 -> 21684.917 | HR12: =CB12-CH12 -> 0 | IC12: 6th Floor | ID12: =DATE(2025,9,1) -> 45901 | IE12: =DATEDIF($IE$5,ID12,"m") -> 1
A13: =A12+1 -> 7 | B13: SOLD | C13: =C12+1 -> 7 | D13: 2nd Floor | E13: =D13 -> 2nd Floor | G13: 2A | H13: A | I13: Studio Unit | J13: 22 | L13: South | M13: End | N13: 95909.091 | O13: =J13*N13 -> 2110000 | P13: =(P4+P5) -> 22400 | Q13: =$Q$5 -> 50000 | W13: =J13*$W$5 -> 22000 | Z13: =$Z$5 -> 75000 | AE13: =SUM(P13:AD13) -> 169400 | AF13: =O13+AE13 -> 2279400 | AG13: =AF13*$AG$5 -> 56985 | AH13: =AF13+AG13 -> 2336385 | AI13: =AH13*$AI$5 -> 58409.625 | AJ13: =AH13+AI13 -> 2394794.6 | AK13: =AJ13*$AK$5 -> 119739.73 | AL13: =AJ13+AK13 -> 2514534.4 | AM13: =AL13*$AM$5 -> 25145.344 | AN13: =$AN$5 -> 27537.41 | AP13: =FK13 -> 111106.84 | AQ13: =AL13+AM13+AP13+AN13+AO13 -> 2678324 | AR13: =AQ13*$AR$5 -> 120524.58 | AS13: =AQ13+AR13 -> 2798848.5 | AT13: =$AT$5 -> 2000000 | AU13: =AV13/J13 -> 36311.297 | AV13: =AS13-AT13 -> 798848.53 | AW13: =AV13*$AW$5 -> 95861.824 | AX13: =AV13+AW13 -> 894710.35 | AY13: =AS13+AW13 -> 2894710.4 | AZ13: =AY13*$AZ$5 -> 36183.879 | BA13: 0 | BB13: =SUM(AY13:BA13) -> 2930894.2 | BC13: 0 | BD13: =BB13*$BD$5 -> 109908.53 | BE13: =$BE$5*1.12 -> 33600 | BF13: =BB13+BC13+BD13+BE13 -> 3074402.8 | BH13: =BF13+BG13 -> 3074402.8 | BJ13: =BH13+BI13 -> 3074402.8 | BL13: =BJ13+BK13 -> 3074402.8 | BN13: =BL13+BM13 -> 3074402.8 | BP13: =BN13+BO13 -> 3074402.8 | BR13: =BP13+BQ13 -> 3074402.8 | BT13: =BR13+BS13 -> 3074402.8 | BV13: =BT13+BU13 -> 3074402.8 | BX13: =$BX$2+$BX$3-BE13 -> 31400 | BY13: =SUM(BV13:BX13) -> 3105802.8 | CA13: =BY13+BZ13 -> 3105802.8 | CB13: =BY13 -> 3105802.8 | CC13: =CB13-CE13-CF13 -> 3105802.8 | CE13: =CD13*J13 -> 0 | CF13: =CE13*$AW$5 -> 0 | CG13: =CE13+CF13 -> 0 | CH13: =CC13+CE13+CF13 -> 3105802.8 | CI13: =CH13 -> 3105802.8 | CJ13: =IF(CC13<=$CC$3,0,12%*CC13) -> 0 | CK13: =CI13*CK$5 -> 318344.78 | CL13: =CI13*CL$5 -> 108703.1 | CM13: =SUM(CI13:CL13) -> 3532850.6 | CN13: =$CN$5 -> 0.125 | CO13: =CM13*CN13 -> 441606.33 | CP13: =$CP$5 -> 30000 | CQ13: =CO13-CP13 -> 411606.33 | CR13: =VLOOKUP(E13,$IC$6:$IE$19,3,FALSE) -> 2 | CS13: =CQ13/CR13 -> 205803.17 | CT13: =100%-CN13 -> 0.875 | CU13: =CM13*CT13 -> 3091244.3 | CV13: =-PMT($CV$5/12,240,CU13,0) -> 23966.384 | CW13: =-PMT($CV$5/12,180,CU13,0) -> 27784.978 | CX13: =-PMT($CV$5/12,120,CU13,0) -> 35891.968 | CY13: =-PMT($CV$5/12,60,CU13,0) -> 61210.342 | CZ13: =(CM13*80%)*$CZ$5 -> 251111.6 | DA13: =(CM13*80%)*$DA$5 -> 99363.637 | DB13: =(CM13*80%)*$DB$5 -> 71768.948 | DC13: =(CM13*80%)*$DC$5 -> 54619.474 | DD13: =AV13/AT13 -> 0.39942426 | DE13: =CE13/CC13 -> 0 | DF13: BOI (W/ HIC) | DG13: NON BOI- BIR THRESHOLD | DH13: =$DH$7 -> 45658 | DI13: =(YEAR(DH13)-YEAR($DI$5))*12+MONTH(DH13)-MONTH($DI$5) -> 14 | DK13: =DH13+65 -> 45723 | DL13: =(YEAR(DK13)-YEAR($DL$5))*12+MONTH(DK13)-MONTH($DL$5)+$DL$4+$DL$3 -> 16 | DM13: BOI | DN13: CTS BARE WITH HIC | DO13: =DP13/J13 -> 40668.652 | DP13: =AX13 -> 894710.35 | DQ13: =AX13/AT13 -> 0.44735518 | DS13: =CI13 -> 3105802.8 | DT13: ='[4]INTERNAL PRICELIST'!N7 -> 2061900 | DU13: =DS13-DT13 -> 1043902.8 | DW13: =DS13/J13 -> 141172.85 | DZ13: 2A | EA13: =G13=DZ13 -> TRUE | EB13: JUAN CARLOS CALLANGA | EC13: FROM UG TO 2F | ER13: SOLD | ES13: SOLD | ET13: =ER13=ES13 -> TRUE | EX13: 2904754 | EY13: =EX13*$EY$5 -> 435713.1 | EZ13: =EX13*$EZ$5 -> 2469040.9 | FA13: =EX13*$FA$5 -> 290475.4 | FB13: =EX13*$FB$5 -> 2614278.6 | FC13: =FB13-EZ13 -> 145237.7 | FF13: =EZ13 -> 2469040.9 | FG13: =FF13*$FG$5 -> 209868.48 | FH13: =FG13*(6/12) -> 104934.24 | FI13: =FB13 -> 2614278.6 | FJ13: =FI13*$FJ$5 -> 222213.68 | FK13: =FJ13*(6/12) -> 111106.84 | FL13: =FJ13-FG13 -> 12345.204 | FM13: =FK13-FH13 -> 6172.6022 | FN13: =$FN$6 -> VS | FO13: =$FO$5 -> 27537.41 | FP13: =FM13-FO13 -> -21364.808 | GA13: 28 | GB13: =EDATE(GC13,GA13) -> 46054 | GC13: 45200 | GI13: =CM13 -> 3532850.6 | GJ13: =CN13 -> 0.125 | GK13: =CO13 -> 441606.33 | GL13: =CP13 -> 30000 | GM13: =CQ13 -> 411606.33 | GN13: =CR13 -> 2 | GO13: =CS13 -> 205803.17 | GP13: =CT13 -> 0.875 | ... GU13: =CY13 -> 61210.342 | GW13: =GI13 -> 3532850.6 | GX13: =GJ13 -> 0.125 | GY13: =GK13 -> 441606.33 | GZ13: =GL13 -> 30000 | HA13: =GM13 -> 411606.33 | HB13: =$HB$5 -> 25 | HC13: =HA13/HB13 -> 16464.253 | HD13: =100%-GX13 -> 0.875 | HE13: =GW13*HD13 -> 3091244.3 | HF13: =-PMT(7%/12,240,HE13,0) -> 23966.384 | HG13: =-PMT(7%/12,180,HE13,0) -> 27784.978 | HH13: =-PMT(7%/12,120,HE13,0) -> 35891.968 | HI13: =-PMT(7%/12,60,HE13,0) -> 61210.342 | HK13: =HC13-GO13 -> -189338.91 | HR13: =CB13-CH13 -> 0 | IC13: 7th Floor | ID13: =DATE(2025,9,1) -> 45901 | IE13: =DATEDIF($IE$5,ID13,"m") -> 1
